BEGIN:VCALENDAR
VERSION:2.0
PRODID:-//ChamberMaster//Event Calendar 2.0//EN
METHOD:PUBLISH
X-PUBLISHED-TTL:P1H
REFRESH-INTERVAL:P1H
CALSCALE:GREGORIAN
BEGIN:VTIMEZONE
TZID:America/New_York
BEGIN:DAYLIGHT
RRULE:FREQ=YEARLY;BYMONTH=3;BYDAY=2SU
DTSTART:20070101T000000
TZOFFSETFROM:-0500
TZOFFSETTO:-0400
TZNAME:Eastern Daylight Time
END:DAYLIGHT
BEGIN:STANDARD
RRULE:FREQ=YEARLY;BYMONTH=11;BYDAY=1SU
DTSTART:20070101T000000
TZOFFSETFROM:-0400
TZOFFSETTO:-0500
TZNAME:Eastern Standard Time
END:STANDARD
END:VTIMEZONE
BEGIN:VEVENT
DTSTART;TZID=America/New_York:20260430T100000
DTEND;TZID=America/New_York:20260430T113000
X-MICROSOFT-CDO-ALLDAYEVENT:FALSE
SUMMARY:Ribbon Cutting & Grand Opening - ORNL Federal Credit Union
DESCRIPTION:Join the Anderson & Oak Ridge Chambers to welcome the new branch to Oak RidgeThursday\, April 30\, 2026 10:00 - 11:00 AM
X-ALT-DESC;FMTTYPE=text/html:<!DOCTYPE html><html><head><title></title></head><body aria-disabled="false"><p>Join the Anderson &amp\; Oak Ridge Chambers to welcome the new branch to Oak Ridge</p><p>Thursday\, April 30\, 2026</p><p>&nbsp\;10:00 - 11:00 AM</p></body></html>
LOCATION:116 N. Illinois Ave. Oak Ridge TN 37830
UID:e.4745.1448040
SEQUENCE:3
DTSTAMP:20260424T123623Z
URL:https://business.andersoncountychamber.org/chambereventscalendar/Details/ribbon-cutting-grand-opening-ornl-federal-credit-union-1714992?sourceTypeId=Hub
END:VEVENT
END:VCALENDAR
